BEGIN:VCALENDAR
VERSION:2.0
PRODID:-//Aunafunds - ECPv6.15.20//NONSGML v1.0//EN
CALSCALE:GREGORIAN
METHOD:PUBLISH
X-WR-CALNAME:Aunafunds
X-ORIGINAL-URL:https://aunafunds.org
X-WR-CALDESC:Events for Aunafunds
REFRESH-INTERVAL;VALUE=DURATION:PT1H
X-Robots-Tag:noindex
X-PUBLISHED-TTL:PT1H
BEGIN:VTIMEZONE
TZID:UTC
BEGIN:STANDARD
TZOFFSETFROM:+0000
TZOFFSETTO:+0000
TZNAME:UTC
DTSTART:20220101T000000
END:STANDARD
END:VTIMEZONE
BEGIN:VEVENT
DTSTART;TZID=UTC:20230911T080000
DTEND;TZID=UTC:20230911T170000
DTSTAMP:20260424T142438
CREATED:20230111T041119Z
LAST-MODIFIED:20241104T193248Z
UID:262-1694419200-1694451600@aunafunds.org
SUMMARY:Bursary Award Ceremony
DESCRIPTION:We are thrilled to share the moments from the recent Bursary Award Ceremony\, where we honored outstanding students who have shown exceptional dedication to their academic and personal growth. This event celebrates the hard work\, resilience\, and promise of each awardee\, who now has new support in their journey toward furthering their education and achieving their dreams. \nEach bursary recipient was selected based on their achievements\, potential\, and commitment to making a positive impact in their communities. The ceremony was filled with joy\, pride\, and inspiration as we presented these talented individuals with awards that will help alleviate financial burdens\, allowing them to focus on their studies and future goals. \nCongratulations to all awardees for this well-deserved recognition! We look forward to witnessing all that you will accomplish in the coming years.
URL:https://aunafunds.org/event/bursary-award-ceremony/
LOCATION:New York\, 8 King Street\, NY\, 101\, United States
CATEGORIES:Seminars
ATTACH;FMTTYPE=image/jpeg:https://aunafunds.org/wp-content/uploads/2024/11/WhatsApp-Image-2024-10-29-at-13.43.39-1.jpeg
ORGANIZER;CN="Gary Jones":MAILTO:events@example.com
END:VEVENT
BEGIN:VEVENT
DTSTART;TZID=UTC:20230911T080000
DTEND;TZID=UTC:20230911T170000
DTSTAMP:20260424T142438
CREATED:20230111T040942Z
LAST-MODIFIED:20241104T202922Z
UID:259-1694419200-1694451600@aunafunds.org
SUMMARY:Youth and Child Development Program
DESCRIPTION:Our Youth and Child Development Program is dedicated to fostering the potential\, resilience\, and well-being of young people. These initiatives provide children and youth with the resources\, skills\, and support systems they need to thrive academically\, socially\, and emotionally. By investing in our youth\, we aim to build strong foundations for a healthier\, more equitable future. \nOur Youth and Child Development Programs aim to unlock the full potential of every young person\, empowering them to create a positive impact in their lives and communities. By nurturing their academic skills\, emotional well-being\, and sense of responsibility\, we are helping to raise a generation of confident\, capable\, and compassionate leaders. With the support of mentors\, educators\, and their communities\, these youth are equipped to face the challenges of today and build a brighter future for tomorrow.
URL:https://aunafunds.org/event/youth-and-child-development-program/
LOCATION:New York\, 8 King Street\, NY\, 101\, United States
CATEGORIES:Seminars
ATTACH;FMTTYPE=image/jpeg:https://aunafunds.org/wp-content/uploads/2023/01/event-2.jpg
ORGANIZER;CN="Gary Jones":MAILTO:events@example.com
END:VEVENT
BEGIN:VEVENT
DTSTART;TZID=UTC:20230908T080000
DTEND;TZID=UTC:20230908T170000
DTSTAMP:20260424T142438
CREATED:20230111T041159Z
LAST-MODIFIED:20241104T201948Z
UID:263-1694160000-1694192400@aunafunds.org
SUMMARY:Food Security and Nutrition Programs
DESCRIPTION:Our Food Security and Nutrition Programs are dedicated to combating hunger\, improving access to nutritious food\, and promoting sustainable food practices in underserved communities. By addressing both immediate food needs and long-term food security\, these initiatives aim to foster healthier\, resilient communities with better food access and nutritional awareness. \nThrough our Food Security and Nutrition Programs\, we aim to not only alleviate hunger but also to establish the foundations of sustainable food security in every community we serve. By empowering individuals with knowledge and resources\, supporting local food systems\, and fostering a culture of nutritional awareness\, we work towards a future where every person has access to the nutritious food they need to thrive. Together\, we can build healthier communities\, one meal at a time.
URL:https://aunafunds.org/event/food-security-and-nutrition-programs/
LOCATION:New York\, 8 King Street\, NY\, 101\, United States
CATEGORIES:Seminars
ATTACH;FMTTYPE=image/jpeg:https://aunafunds.org/wp-content/uploads/2023/01/event-6.jpg
ORGANIZER;CN="Gary Jones":MAILTO:events@example.com
END:VEVENT
END:VCALENDAR